Workbook

Sheet duomenys
A3: Varžybų pavadinimas | B3: Varėnos taurė 2026
A4: Vieta | B4: Paluknys
A5: Data
A6: F-1-A, F-1-B, F-1-C | B6: 46284
A7: F-1-G, F-1-H, HLG | B7: 46284
A8: Vyr. teisėjas | B8: Gediminas Vaitekūnas
A9: Varžybų sekretorius | B9: Virginijus Ivančikas

Sheet F1A
A1: Laisvo skridimo aviamodelių varžybos
A2: =duomenys!B3 -> Varėnos taurė 2026
D4: F-1-A rezultatai
A6: Nr. | B6: Dalyvis | C6: Komanda | D6: 1 | E6: 2 | F6: 3 | G6: 4 | H6: 5 | I6: F1 | J6: F2 | K6: Rezultatas | L6: Per 1000 | M6: Klubinės
A7: 1 | B7: Vytas Klezys | C7: Biržai | D7: 240 | E7: 180 | F7: 180 | G7: 180 | H7: 180 | K7: =0+SUM(D7:J7) -> 960 | L7: =1000*(SUM(D7:H7))/(SUM($D$7:$H$7)) -> 1000 | M7: 1000
A8: 2 | B8: Modestas Snukiškis | C8: Utena | D8: 240 | E8: 180 | F8: 145 | G8: 180 | H8: 180 | K8: =0+SUM(D8:J8) -> 925 | L8: =1000*(SUM(D8:H8))/(SUM($D$7:$H$7)) -> 963.54167 | M8: 950
A9: 3 | B9: Robertas Poškus | C9: Pasvalys | D9: 236 | E9: 180 | F9: 150 | G9: 150 | H9: 180 | K9: =0+SUM(D9:J9) -> 896 | L9: =1000*(SUM(D9:H9))/(SUM($D$7:$H$7)) -> 933.33333 | M9: 900
A10: 4 | B10: Algirdas Žiūkas | C10: Utena | D10: 240 | E10: 158 | F10: 180 | G10: 180 | H10: 126 | K10: =0+SUM(D10:J10) -> 884 | L10: =1000*(SUM(D10:H10))/(SUM($D$7:$H$7)) -> 920.83333
A11: 5 | B11: Saulius Kaunietis | C11: Panevėžys | D11: 200 | E11: 180 | F11: 180 | G11: 116 | H11: 180 | K11: =0+SUM(D11:J11) -> 856 | L11: =1000*(SUM(D11:H11))/(SUM($D$7:$H$7)) -> 891.66667
A12: 6 | B12: Simona Kaunietytė | C12: Panevėžys | D12: 139 | E12: 132 | F12: 180 | G12: 180 | H12: 180 | K12: =0+SUM(D12:J12) -> 811 | L12: =1000*(SUM(D12:H12))/(SUM($D$7:$H$7)) -> 844.79167
A13: 7 | B13: Donatas Pampikas | C13: Vilnius | D13: 240 | E13: 180 | F13: 180 | G13: 24 | H13: 180 | K13: =0+SUM(D13:J13) -> 804 | L13: =1000*(SUM(D13:H13))/(SUM($D$7:$H$7)) -> 837.5 | M13: 800
A14: 8 | B14: Edmundas Mikulėnas | C14: Utena | D14: 184 | E14: 180 | F14: 180 | G14: 112 | H14: 108 | K14: =0+SUM(D14:J14) -> 764 | L14: =1000*(SUM(D14:H14))/(SUM($D$7:$H$7)) -> 795.83333 | M14: 750
A15: 9 | B15: Paulius Budovas | C15: Šiauliai | D15: 240 | E15: 9 | F15: 180 | G15: 180 | H15: 137 | K15: =0+SUM(D15:J15) -> 746 | L15: =1000*(SUM(D15:H15))/(SUM($D$7:$H$7)) -> 777.08333 | M15: 550
A16: 10 | B16: Arvydas Palskys | C16: Utena | D16: 146 | E16: 105 | F16: 180 | G16: 145 | H16: 155 | K16: =0+SUM(D16:J16) -> 731 | L16: =1000*(SUM(D16:H16))/(SUM($D$7:$H$7)) -> 761.45833 | M16: 300
A17: 11 | B17: Aronas Treinys | C17: Utena | D17: 119 | E17: 103 | F17: 136 | G17: 180 | H17: 180 | K17: =0+SUM(D17:J17) -> 718 | L17: =1000*(SUM(D17:H17))/(SUM($D$7:$H$7)) -> 747.91667
A18: 12 | B18: Pranys Adomas (J) | C18: Utena | D18: 0 | E18: 156 | F18: 98 | G18: 180 | H18: 180 | K18: =0+SUM(D18:J18) -> 614 | L18: =1000*(SUM(D18:H18))/(SUM($D$7:$H$7)) -> 639.58333
A19: 13 | B19: Julius Jaskonis (J) | C19: Varėna | D19: 68 | E19: 36 | F19: 52 | G19: 1 | H19: 81 | K19: =0+SUM(D19:J19) -> 238 | L19: =1000*(SUM(D19:H19))/(SUM($D$7:$H$7)) -> 247.91667
K20: =0+SUM(D20:J20) -> 0 | L20: =1000*(SUM(D20:H20))/(SUM($D$7:$H$7)) -> 0
B22: Parašai: | C22: =duomenys!B8 -> Gediminas Vaitekūnas | J22: Data: | K22: =duomenys!B6 -> 46284
C23: =duomenys!B9 -> Virginijus Ivančikas | K23: =duomenys!B4 -> Paluknys

Sheet F1B
A1: Laisvo skridimo aviamodelių varžybos
A2: =duomenys!B3 -> Varėnos taurė 2026
D4: F-1-B rezultatai
A6: Nr. | B6: Dalyvis | C6: Komanda | D6: 1 | E6: 2 | F6: 3 | G6: 4 | H6: 5 | I6: F1 | J6: F2 | K6: Rezultatas | L6: Per 1000 | M6: Klubinės
A7: 1 | B7: Rolandas Mackus | C7: Utena | D7: 240 | E7: 175 | F7: 180 | G7: 180 | H7: 180 | K7: =0+SUM(D7:J7) -> 955 | L7: =1000*(SUM(D7:H7))/(SUM($D$7:$H$7)) -> 1000 | M7: 900
A8: 2 | B8: Laimis Praniauskas | C8: Utena | D8: 240 | E8: 180 | F8: 180 | G8: 180 | H8: 151 | K8: =0+SUM(D8:J8) -> 931 | L8: =1000*(SUM(D8:H8))/(SUM($D$7:$H$7)) -> 974.86911
A9: 3 | B9: Vytautas Kaunietis | C9: Panevėžys | D9: 205 | E9: 180 | F9: 170 | G9: 180 | H9: 180 | K9: =0+SUM(D9:J9) -> 915 | L9: =1000*(SUM(D9:H9))/(SUM($D$7:$H$7)) -> 958.11518
A10: 4 | B10: Marius Bliujus | C10: Vilnius | D10: 187 | E10: 146 | F10: 180 | G10: 145 | H10: 139 | K10: =0+SUM(D10:J10) -> 797 | L10: =1000*(SUM(D10:H10))/(SUM($D$7:$H$7)) -> 834.55497 | M10: 600
B12: Parašai: | C12: =duomenys!B8 -> Gediminas Vaitekūnas | J12: Data: | K12: =duomenys!B7 -> 46284
C13: =duomenys!B9 -> Virginijus Ivančikas | K13: =duomenys!B4 -> Paluknys

Sheet F1C
A1: Laisvo skridimo aviamodelių varžybos
A2: =duomenys!B3 -> Varėnos taurė 2026
D4: F-1-C rezultatai
A6: Nr. | B6: Dalyvis | C6: Komanda | D6: 1 | E6: 2 | F6: 3 | G6: 4 | H6: 5 | I6: F1 | J6: F2 | K6: Rezultatas | L6: Per 1000 | M6: Klubinės
A7: 1 | B7: Virginijus Furmaniukas | C7: Varėna | D7: 240 | E7: 180 | F7: 180 | G7: 180 | H7: 180 | K7: =0+SUM(D7:J7) -> 960 | L7: =1000*(SUM(D7:H7))/(SUM($D$7:$H$7)) -> 1000
A8: 2 | B8: Pijus Furmaniukas | C8: Varėna | D8: 240 | E8: 180 | F8: 180 | G8: 180 | H8: 180 | K8: =0+SUM(D8:J8) -> 960 | L8: =1000*(SUM(D8:H8))/(SUM($D$7:$H$7)) -> 1000
A9: 3 | B9: Henrikas Aukštakis | C9: Airija | D9: 240 | E9: 180 | F9: 180 | G9: 180 | H9: 124 | K9: =0+SUM(D9:J9) -> 904 | L9: =1000*(SUM(D9:H9))/(SUM($D$7:$H$7)) -> 941.66667
A10: 4 | B10: Danas Babenskas | C10: Vilnius | D10: 193 | E10: 0 | F10: 180 | G10: 180 | H10: 180 | K10: =0+SUM(D10:J10) -> 733 | L10: =1000*(SUM(D10:H10))/(SUM($D$7:$H$7)) -> 763.54167
A11: 5 | B11: Darijus Atkočiūnas | C11: Biržai | D11: 132 | E11: 172 | F11: 118 | G11: 59 | H11: 0 | K11: =0+SUM(D11:J11) -> 481 | L11: =1000*(SUM(D11:H11))/(SUM($D$7:$H$7)) -> 501.04167
B13: Parašai: | C13: =duomenys!B8 -> Gediminas Vaitekūnas | J13: Data: | K13: =duomenys!B7 -> 46284
C14: =duomenys!B9 -> Virginijus Ivančikas | K14: =duomenys!B4 -> Paluknys

Sheet F1G
A1: Laisvo skridimo aviamodelių varžybos
A2: =duomenys!B3 -> Varėnos taurė 2026
D4: F-1-G rezultatai
A6: Nr. | B6: Dalyvis | C6: Komanda | D6: 1 | E6: 2 | F6: 3 | G6: 4 | H6: 5 | I6: 6 | J6: 7 | K6: Rezultatas | L6: Per 1000 | M6: Klubinės
A7: 1 | B7: Jomantas Kviklys F1B | C7: Utena | D7: 240 | E7: 0 | F7: 180 | G7: 0 | H7: 0 | K7: =0+SUM(D7:J7) -> 420 | L7: =1000*(SUM(D7:H7))/(SUM($D$7:$H$7)) -> 1000 | M7: 1000
A8: 2 | B8: Rokas Ivančikas | C8: Varėna | D8: 4 | E8: 73 | F8: 86 | G8: 60 | H8: 33 | K8: =0+SUM(D8:J8) -> 256 | L8: =1000*(SUM(D8:H8))/(SUM($D$7:$H$7)) -> 609.52381
K9: =0+SUM(D9:J9) -> 0 | L9: =1000*(SUM(D9:H9))/(SUM($D$7:$H$7)) -> 0
B11: Parašai: | C11: =duomenys!B8 -> Gediminas Vaitekūnas | J11: Data: | K11: =duomenys!B7 -> 46284
C12: =duomenys!B9 -> Virginijus Ivančikas | K12: =duomenys!B4 -> Paluknys

Sheet F1H
A1: Laisvo skridimo aviamodelių varžybos
A2: =duomenys!B3 -> Varėnos taurė 2026
D4: F-1-H rezultatai
A6: Nr. | B6: Dalyvis | C6: Komanda | D6: 1 | E6: 2 | F6: 3 | G6: 4 | H6: 5 | I6: 6 | J6: 7 | K6: Rezultatas | L6: Per 1000 | M6: Klubinės
A7: 1 | B7: Mantas Užgirys | C7: Varėna | D7: 66 | E7: 113 | F7: 120 | G7: 43 | H7: 90 | K7: =0+SUM(D7:J7) -> 432 | L7: =1000*(SUM(D7:H7))/(SUM($D$7:$H$7)) -> 1000
A8: 2 | B8: Benas Krasovskis | C8: Paluknys | D8: 80 | E8: 53 | F8: 83 | G8: 45 | H8: 42 | K8: =0+SUM(D8:J8) -> 303 | L8: =1000*(SUM(D8:H8))/(SUM($D$7:$H$7)) -> 701.38889
A9: 3 | B9: Matas Bušniauskas | C9: Varėna | D9: 93 | E9: 120 | F9: 36 | G9: 3 | H9: 51 | K9: =0+SUM(D9:J9) -> 303 | L9: =1000*(SUM(D9:H9))/(SUM($D$7:$H$7)) -> 701.38889
A10: 4 | B10: Vaiva Ivančikaitė | C10: Varėna | D10: 51 | E10: 90 | F10: 32 | G10: 35 | H10: 66 | K10: =0+SUM(D10:J10) -> 274 | L10: =1000*(SUM(D10:H10))/(SUM($D$7:$H$7)) -> 634.25926
A11: 5 | B11: Vincas Jaskonis | C11: Varėna | D11: 0 | E11: 0
B13: Parašai: | C13: =duomenys!B8 -> Gediminas Vaitekūnas | J13: Data: | K13: =duomenys!B7 -> 46284
C14: =duomenys!B9 -> Virginijus Ivančikas | K14: =duomenys!B4 -> Paluknys

Sheet HLG
A1: Laisvo skridimo aviamodelių varžybos
A2: =duomenys!B3 -> Varėnos taurė 2026
D4: H-L-G rezultatai
A6: Nr. | B6: Dalyvis | C6: Komanda | D6: 1 | E6: 2 | F6: 3 | G6: 4 | H6: 5 | I6: 6 | J6: 7 | K6: Rezultatas | L6: Per 1000 | M6: Klubinės
A7: 1 | B7: Benas Krasovskis | C7: Paluknys | D7: 16 | E7: 21 | F7: 24 | G7: 16 | H7: 15 | K7: =0+SUM(D7:J7) -> 92 | L7: =1000*(SUM(D7:H7))/(SUM($D$7:$H$7)) -> 1000 | M7: 1000
A8: 2 | B8: Jomantas Kviklys | C8: Utena | D8: 19 | E8: 13 | F8: 19 | G8: 17 | H8: 14 | K8: =0+SUM(D8:J8) -> 82 | L8: =1000*(SUM(D8:H8))/(SUM($D$7:$H$7)) -> 891.30435
A9: 3 | B9: Pijus Eismantas - 12 | C9: Utena | D9: 19 | E9: 15 | F9: 14 | G9: 4 | H9: 13 | K9: =0+SUM(D9:J9) -> 65 | L9: =1000*(SUM(D9:H9))/(SUM($D$7:$H$7)) -> 706.52174
A10: 4 | B10: Audrius Ramanauskas - 12 | C10: Utena | D10: 3 | E10: 16 | F10: 13 | G10: 16 | H10: 12 | K10: =0+SUM(D10:J10) -> 60 | L10: =1000*(SUM(D10:H10))/(SUM($D$7:$H$7)) -> 652.17391
A11: 5 | B11: Matas Bušniauskas - 12 | C11: Varėna | D11: 10 | E11: 18 | F11: 12 | G11: 9 | H11: 8 | K11: =0+SUM(D11:J11) -> 57 | L11: =1000*(SUM(D11:H11))/(SUM($D$7:$H$7)) -> 619.56522
A12: 6 | B12: Gustasas Treinys | C12: Utena | D12: 10 | E12: 13 | F12: 2 | G12: 8 | H12: 3 | K12: =0+SUM(D12:J12) -> 36 | L12: =1000*(SUM(D12:H12))/(SUM($D$7:$H$7)) -> 391.30435
A13: 7 | B13: Vaiva Ivančikaitė - 12 | C13: Varėna | D13: 9 | E13: 6 | F13: 7 | G13: 4 | H13: 10 | K13: =0+SUM(D13:J13) -> 36 | L13: =1000*(SUM(D13:H13))/(SUM($D$7:$H$7)) -> 391.30435
A14: 8 | B14: Rokas Ivančikas - 12 | C14: Varėna | D14: 6 | E14: 8 | F14: 4 | G14: 9 | H14: 4 | K14: =0+SUM(D14:J14) -> 31 | L14: =1000*(SUM(D14:H14))/(SUM($D$7:$H$7)) -> 336.95652
A15: 9 | B15: Julius Jaskonis | C15: Varėna | D15: 9 | E15: 2 | F15: 3 | G15: 3 | H15: 3 | K15: =0+SUM(D15:J15) -> 20 | L15: =1000*(SUM(D15:H15))/(SUM($D$7:$H$7)) -> 217.3913
A16: 10 | B16: Kaštonas Riauka - 12 | C16: Utena | D16: 3 | E16: 3 | F16: 3 | G16: 8 | H16: 3 | K16: =0+SUM(D16:J16) -> 20 | L16: =1000*(SUM(D16:H16))/(SUM($D$7:$H$7)) -> 217.3913
A17: 11 | B17: Vincas Jaskonis - 12 | C17: Varėna | D17: 4 | E17: 6 | F17: 3 | G17: 3 | H17: 3 | K17: =0+SUM(D17:J17) -> 19 | L17: =1000*(SUM(D17:H17))/(SUM($D$7:$H$7)) -> 206.52174
A18: 12 | B18: Mantas Užgirys - 12 | C18: Varėna | D18: 7 | E18: 3 | F18: 2 | G18: 3 | H18: 2 | K18: =0+SUM(D18:J18) -> 17 | L18: =1000*(SUM(D18:H18))/(SUM($D$7:$H$7)) -> 184.78261
A19: 13 | B19: Gabrielius Vedrickas - 12 | C19: Utena | D19: 1 | E19: 2 | F19: 1 | G19: 1 | H19: 5 | K19: =0+SUM(D19:J19) -> 10 | L19: =1000*(SUM(D19:H19))/(SUM($D$7:$H$7)) -> 108.69565
K20: =0+SUM(D20:J20) -> 0 | L20: =1000*(SUM(D20:H20))/(SUM($D$7:$H$7)) -> 0
B22: Parašai: | C22: =duomenys!B8 -> Gediminas Vaitekūnas | J22: Data: | K22: =duomenys!B7 -> 46284
C23: =duomenys!B9 -> Virginijus Ivančikas | K23: =duomenys!B4 -> Paluknys
